BEGIN:VCALENDAR
VERSION:2.0
PRODID:-//Plone.org//NONSGML plone.app.event//EN
X-WR-TIMEZONE:Europe/Berlin
BEGIN:VEVENT
SUMMARY:Research Data Management: A Crash Course
DTSTART;TZID=Europe/Berlin:20260922T090000
DTEND;TZID=Europe/Berlin:20260922T140000
DTSTAMP:20260424T223626Z
UID:b5e45576d4954f97af5471cb14049640@www.forschungsdaten.uni-bonn.de
CATEGORIES:Schulungen,Veranstaltungen
CREATED:20230202T123013Z
DESCRIPTION:Digitization is changing day-to-day research practices across 
 all fields of academic inquiry. Research data of every kind are collected\
 , processed\, analyzed\, published and archived in digital systems. The te
 rm Research Data Management (RDM) refers to a range of activities and topi
 cs relating to the handling of digital research data. In this workshop\, y
 ou will learn about the basics of RDM.\n\nEffective RDM is a crucial part 
 of modern scientific practice. It involves organizing\, storing\, and pres
 erving data collected during research projects to ensure data quality\, se
 curity\, accessibility\, and compliance with legal and ethical standards. 
 Proper RDM supports transparency\, reproducibility\, and long-term usabili
 ty of research results\, enabling researchers to collaborate more efficien
 tly and build on existing knowledge.\n\nExcept for microphone and webcam\,
  no technical equipment or prior knowledge is required for this online wor
 kshop.
LAST-MODIFIED:20260415T043924Z
URL:https://www.forschungsdaten.uni-bonn.de/de/veranstaltungen/research-da
 ta-management-a-crash-course-4
END:VEVENT
BEGIN:VTIMEZONE
TZID:Europe/Berlin
X-LIC-LOCATION:Europe/Berlin
BEGIN:DAYLIGHT
DTSTART:20260329T030000
TZNAME:CEST
TZOFFSETFROM:+0100
TZOFFSETTO:+0200
END:DAYLIGHT
END:VTIMEZONE
END:VCALENDAR
