BEGIN:VCALENDAR
VERSION:2.0
PRODID:-//Plone.org//NONSGML plone.app.event//EN
X-WR-TIMEZONE:Europe/Berlin
BEGIN:VEVENT
SUMMARY:Research Data Management for ZEF: A Crash Course
DTSTART;TZID=Europe/Berlin:20260421T090000
DTEND;TZID=Europe/Berlin:20260421T140000
DTSTAMP:20260420T233909Z
UID:e6e9fe0e0bee4504a139c44e3fbc29d4@www.forschungsdaten.uni-bonn.de
CATEGORIES:Schulungen,Veranstaltungen
CREATED:20230202T123013Z
DESCRIPTION:Effective RDM is a crucial part of modern scientific practice.
  It involves organizing\, storing\, and preserving data collected during r
 esearch projects to ensure data quality\, security\, accessibility\, and c
 ompliance with legal and ethical standards. Proper RDM supports transparen
 cy\, reproducibility\, and long-term usability of research results\, enabl
 ing researchers to collaborate more efficiently and build on existing know
 ledge.\n\nEver wondered what a DMP is and why care to write one? Ever been
  unable to open a file\, find the most recent version of a file\, or worse
 \, lost an important file? Regardless if small or big and transdisciplinar
 y\, all projects can generate enough (digital) research data to become con
 fusing and susceptible to loss.\nThis workshop provides you with do’s\, 
 don‘ts and good practices that help keep your project data safe\, secure
  and well organized until you are ready to share or reuse it. Start your n
 ext project or enhance your current one by introducing RDM to it!
LAST-MODIFIED:20260415T044303Z
URL:https://www.forschungsdaten.uni-bonn.de/en/events/research-data-manage
 ment-a-crash-course-zef
END:VEVENT
BEGIN:VTIMEZONE
TZID:Europe/Berlin
X-LIC-LOCATION:Europe/Berlin
BEGIN:DAYLIGHT
DTSTART:20260329T030000
TZNAME:CEST
TZOFFSETFROM:+0100
TZOFFSETTO:+0200
END:DAYLIGHT
END:VTIMEZONE
END:VCALENDAR
